BEGIN:VCALENDAR
VERSION:2.0
PRODID:-//Ayuntamiento de Alfacar - ECPv6.15.20//NONSGML v1.0//EN
CALSCALE:GREGORIAN
METHOD:PUBLISH
X-WR-CALNAME:Ayuntamiento de Alfacar
X-ORIGINAL-URL:https://ayuntamientodealfacar.es
X-WR-CALDESC:Eventos para Ayuntamiento de Alfacar
REFRESH-INTERVAL;VALUE=DURATION:PT1H
X-Robots-Tag:noindex
X-PUBLISHED-TTL:PT1H
BEGIN:VTIMEZONE
TZID:Europe/Madrid
BEGIN:DAYLIGHT
TZOFFSETFROM:+0100
TZOFFSETTO:+0200
TZNAME:CEST
DTSTART:20240331T010000
END:DAYLIGHT
BEGIN:STANDARD
TZOFFSETFROM:+0200
TZOFFSETTO:+0100
TZNAME:CET
DTSTART:20241027T010000
END:STANDARD
BEGIN:DAYLIGHT
TZOFFSETFROM:+0100
TZOFFSETTO:+0200
TZNAME:CEST
DTSTART:20250330T010000
END:DAYLIGHT
BEGIN:STANDARD
TZOFFSETFROM:+0200
TZOFFSETTO:+0100
TZNAME:CET
DTSTART:20251026T010000
END:STANDARD
BEGIN:DAYLIGHT
TZOFFSETFROM:+0100
TZOFFSETTO:+0200
TZNAME:CEST
DTSTART:20260329T010000
END:DAYLIGHT
BEGIN:STANDARD
TZOFFSETFROM:+0200
TZOFFSETTO:+0100
TZNAME:CET
DTSTART:20261025T010000
END:STANDARD
END:VTIMEZONE
BEGIN:VEVENT
DTSTART;TZID=Europe/Madrid:20250529T200000
DTEND;TZID=Europe/Madrid:20250529T200000
DTSTAMP:20260422T032516
CREATED:20250527T091820Z
LAST-MODIFIED:20250529T063659Z
UID:4931-1748548800-1748548800@ayuntamientodealfacar.es
SUMMARY:Presentación del Libro "Monárquicos\, republicanos y franquistas en la Villa de Alfacar (1930-1975)"
DESCRIPTION:El próximo jueves 29 de mayo\, os invitamos a la presentación del libro “Monárquicos\, republicanos y franquistas en la Villa de Alfacar (1930-1975)” de Rafael Gil Bracero.\n\n\nUna obra que profundiza en la historia reciente de nuestro municipio desde distintas perspectivas políticas.\n\n\n Hora: 20:00 h\n Lugar: Biblioteca Municipal\n\n\nSolo por venir\, te regalaremos el libro para que te lo lleves de recuerdo.
URL:https://ayuntamientodealfacar.es/evento/presentacion-del-libro-monarquicos-republicanos-y-franquistas-en-la-villa-de-alfacar-1930-1975/
LOCATION:Biblioteca Pública de Alfacar\, C/ Angel de la Higuera\, Alfacar\, Granada\, 18170\, España
ATTACH;FMTTYPE=image/jpeg:https://ayuntamientodealfacar.es/wp-content/uploads/2018/04/biblioteca.jpg
ORGANIZER;CN="%C3%81rea de Cultura Ayuntamiento de Alfacar":MAILTO:ayuntamientofrutos@gmail.com
END:VEVENT
BEGIN:VEVENT
DTSTART;TZID=Europe/Madrid:20250601T080000
DTEND;TZID=Europe/Madrid:20250601T163000
DTSTAMP:20260422T032516
CREATED:20250527T091438Z
LAST-MODIFIED:20250529T063600Z
UID:4929-1748764800-1748795400@ayuntamientodealfacar.es
SUMMARY:Programa Municipal de Senderismo
DESCRIPTION:PROGRAMA MUNICIPAL DE SENDERISMO \n Disfrutaremos de una nueva salida\, esta vez a la Ruta del Barranco de San Juan\, una de las más bonitas\, ya que disfrutaremos del deshielo de Sierra Nevada. Domingo\, 1 de junio. Salida  8:00 h y llegada a las 16:30 h. INSCRIPCIONES en la web  https://sinergyasport.com/ruta-deshielo-en-sierra-nevada/ RECUERDA: plazas limitadas (50 PLAZAS).
URL:https://ayuntamientodealfacar.es/evento/programa-municipal-de-senderismo/
LOCATION:Granada
ATTACH;FMTTYPE=image/jpeg:https://ayuntamientodealfacar.es/wp-content/uploads/2025/05/senderismo.jpg
ORGANIZER;CN="Ayuntamiento de Alfacar":MAILTO:informacion@ayuntamientodealfacar.es
END:VEVENT
BEGIN:VEVENT
DTSTART;TZID=Europe/Madrid:20250731T200000
DTEND;TZID=Europe/Madrid:20250731T223000
DTSTAMP:20260422T032516
CREATED:20250731T161707Z
LAST-MODIFIED:20250731T161951Z
UID:5017-1753992000-1754001000@ayuntamientodealfacar.es
SUMMARY:Pleno Ordinario 31 de julio
DESCRIPTION:Retransmisión en directo de la sesión del Pleno del Ayuntamiento de Alfacar. \nEn el siguiente enlace podrás ver la sesión del Pleno el jueves\, 31 de julio\, a las 20:00 h
URL:https://ayuntamientodealfacar.es/evento/pleno-ordinario-31-de-julio/
LOCATION:Salón de Plenos\, Plaza de la Iglesia\, Alfacar\, Granada\, 18170\, Spain
ORGANIZER;CN="Ayuntamiento de Alfacar":MAILTO:informacion@ayuntamientodealfacar.es
END:VEVENT
END:VCALENDAR